BEGIN:VCALENDAR

VERSION:2.0

PRODID:-//hacksw/handcal//NONSGML v1.0//EN

BEGIN:VEVENT

UID:b3256c8523a98942a6ee6d21806f65be

DTSTAMP:20260424T151641Z

DTSTART:20260427T170000

DTEND:20260427T173000

SUMMARY:b43402300c86432290c0ed74e3203155 - 24 Sandpiper St, Inala QLD 4077

LOCATION:24 Sandpiper St, Inala QLD 4077

END:VEVENT

END:VCALENDAR