BEGIN:VCALENDAR

VERSION:2.0

PRODID:-//hacksw/handcal//NONSGML v1.0//EN

BEGIN:VEVENT

UID:93b63a3228d043ed1f3a81f752f0edc1

DTSTAMP:20260424T151755Z

DTSTART:20260502T110000

DTEND:20260502T113000

SUMMARY:b43402300c86432290c0ed74e3203155 - 24 Sandpiper St, Inala QLD 4077

LOCATION:24 Sandpiper St, Inala QLD 4077

END:VEVENT

END:VCALENDAR