BEGIN:VCALENDAR

VERSION:2.0

PRODID:-//hacksw/handcal//NONSGML v1.0//EN

BEGIN:VEVENT

UID:0b744bb645f40f2fe8515d96315f9388

DTSTAMP:20260424T152214Z

DTSTART:20260516T110000

DTEND:20260516T113000

SUMMARY:b43402300c86432290c0ed74e3203155 - 24 Sandpiper St, Inala QLD 4077

LOCATION:24 Sandpiper St, Inala QLD 4077

END:VEVENT

END:VCALENDAR