BEGIN:VCALENDAR

VERSION:2.0

PRODID:-//hacksw/handcal//NONSGML v1.0//EN

BEGIN:VEVENT

UID:9e3e010fb7709c250b0cce301564c068

DTSTAMP:20260424T131926Z

DTSTART:20260523T000000

DTEND:20260523T000000

SUMMARY:b43402300c86432290c0ed74e3203155 - 24 Sandpiper St, Inala QLD 4077

LOCATION:24 Sandpiper St, Inala QLD 4077

END:VEVENT

END:VCALENDAR