BEGIN:VCALENDAR

VERSION:2.0

PRODID:-//hacksw/handcal//NONSGML v1.0//EN

BEGIN:VEVENT

UID:f4a6a9c4b0e83f85b0bb877be2a2bfa7

DTSTAMP:20260424T151949Z

DTSTART:20260523T110000

DTEND:20260523T120000

SUMMARY:b43402300c86432290c0ed74e3203155 - 24 Sandpiper St, Inala QLD 4077

LOCATION:24 Sandpiper St, Inala QLD 4077

END:VEVENT

END:VCALENDAR